{
 "currentVersion": 10.81,
 "serviceDescription": "cnr street basemap cached",
 "mapName": "Layers",
 "description": "",
 "copyrightText": "",
 "supportsDynamicLayers": false,
 "layers": [
  {
   "id": 0,
   "name": "Edge of Pavement",
   "parentLayerId": -1,
   "defaultVisibility": true,
   "subLayerIds": null,
   "minScale": 0,
   "maxScale": 0,
   "type": "Feature Layer",
   "geometryType": "esriGeometryPolygon"
  },
  {
   "id": 1,
   "name": "Westchester Municipalities",
   "parentLayerId": -1,
   "defaultVisibility": false,
   "subLayerIds": null,
   "minScale": 0,
   "maxScale": 0,
   "type": "Feature Layer",
   "geometryType": "esriGeometryPolygon"
  }
 ],
 "tables": [],
 "spatialReference": {
  "wkid": 102715,
  "latestWkid": 2260
 },
 "singleFusedMapCache": true,
 "tileInfo": {
  "rows": 512,
  "cols": 512,
  "dpi": 128,
  "format": "MIXED",
  "compressionQuality": 75,
  "origin": {
   "x": -17954600,
   "y": 1.8705699999999993E7
  },
  "spatialReference": {
   "wkid": 102715,
   "latestWkid": 2260
  },
  "lods": [
   {
    "level": 0,
    "resolution": 260.41666666666663,
    "scale": 400000
   },
   {
    "level": 1,
    "resolution": 175.78125,
    "scale": 270000
   },
   {
    "level": 2,
    "resolution": 130.20833333333331,
    "scale": 200000
   },
   {
    "level": 3,
    "resolution": 97.65625,
    "scale": 150000
   },
   {
    "level": 4,
    "resolution": 65.10416666666666,
    "scale": 100000
   },
   {
    "level": 5,
    "resolution": 32.55208333333333,
    "scale": 50000
   },
   {
    "level": 6,
    "resolution": 22.786458333333332,
    "scale": 35000
   },
   {
    "level": 7,
    "resolution": 13.020833333333332,
    "scale": 20000
   },
   {
    "level": 8,
    "resolution": 6.510416666666666,
    "scale": 10000
   },
   {
    "level": 9,
    "resolution": 3.255208333333333,
    "scale": 5000
   },
   {
    "level": 10,
    "resolution": 1.953125,
    "scale": 3000
   },
   {
    "level": 11,
    "resolution": 0.9765625,
    "scale": 1500
   },
   {
    "level": 12,
    "resolution": 0.3255208333333333,
    "scale": 500
   }
  ]
 },
 "initialExtent": {
  "xmin": 482934.9701516699,
  "ymin": 757187.7054119417,
  "xmax": 846737.0534850032,
  "ymax": 912135.6220786085,
  "spatialReference": {
   "wkid": 102715,
   "latestWkid": 2260
  }
 },
 "fullExtent": {
  "xmin": 634792.6748451851,
  "ymin": 745060.0701874718,
  "xmax": 772208.8149340339,
  "ymax": 924238.5612937361,
  "spatialReference": {
   "wkid": 102715,
   "latestWkid": 2260
  }
 },
 "minScale": 400000,
 "maxScale": 500,
 "units": "esriFeet",
 "supportedImageFormatTypes": "PNG32,PNG24,PNG,JPG,DIB,TIFF,EMF,PS,PDF,GIF,SVG,SVGZ,BMP",
 "documentInfo": {
  "Title": "",
  "Author": "Bowne Management Systems",
  "Comments": "",
  "Subject": "",
  "Category": "",
  "AntialiasingMode": "None",
  "TextAntialiasingMode": "Force",
  "Keywords": "cnr street basemap cached"
 },
 "capabilities": "Map,Query,Data",
 "supportedQueryFormats": "JSON, geoJSON",
 "exportTilesAllowed": false,
 "referenceScale": 0,
 "supportsDatumTransformation": true,
 "maxRecordCount": 1000,
 "maxImageHeight": 4096,
 "maxImageWidth": 4096,
 "supportedExtensions": "KmlServer"
}
